BEGIN:VCALENDAR
VERSION:2.0
PRODID:-//217.160.0.197//NONSGML kigkonsult.se iCalcreator 2.20//
CALSCALE:GREGORIAN
METHOD:PUBLISH
X-WR-TIMEZONE:Europe/Berlin
BEGIN:VEVENT
UID:event207@Arbeitskreis Naturschutz in der SG Tostedt e.V.
DTSTAMP:20260419T142011Z
CATEGORIES:Veranstaltung
DESCRIPTION:Mitgliederversammlung 2023\nKategorie: Veranstaltung\nICS-Link:
  https://aknaturschutz.org/index.php?option=com_jem&view=event&id=207:mitg
 liederversammlung-2023\n
DTSTART;TZID=Europe/Berlin:20230505T193000
DTEND;TZID=Europe/Berlin:20230505T193000
LOCATION:Gasthaus Estetal\, Kakenstorf
SUMMARY:Mitgliederversammlung 2023
URL:https://aknaturschutz.org/index.php?option=com_jem&view=event&id=207:mi
 tgliederversammlung-2023
END:VEVENT
END:VCALENDAR
